BEGIN:VCALENDAR
VERSION:2.0
PRODID:spatie/icalendar-generator
DESCRIPTION:Events from ΑΟ ΚΑΛΑΜΑΤΑ 1980
X-WR-CALDESC:Events from ΑΟ ΚΑΛΑΜΑΤΑ 1980
REFRESH-INTERVAL;VALUE=DURATION:PT1440M
X-PUBLISHED-TTL:PT1440M
BEGIN:VTIMEZONE
TZID:Etc/GMT-2
BEGIN:STANDARD
DTSTART:20250510T200000Z
TZOFFSETFROM:+0200
TZOFFSETTO:+0200
END:STANDARD
END:VTIMEZONE
BEGIN:VTIMEZONE
TZID:UTC
BEGIN:STANDARD
DTSTART:20250724T094839Z
TZOFFSETFROM:+0000
TZOFFSETTO:+0000
END:STANDARD
END:VTIMEZONE
BEGIN:VEVENT
UID:133-91
DTSTAMP:20260420T094839Z
SUMMARY:Πανερυθραϊκός - Καλαμάτα 80: 0-3
LOCATION:Δημοτικό Γυμναστήριο Ν.Ερυθραίας Γι
 άννη Ρίτσου 13  Νέα Ερυθραία  14671
ORGANIZER;CN=theo:MAILTO:theo@escargots.gr
DTSTART;TZID=Etc/GMT-2:20260204T200000
DTEND;TZID=Etc/GMT-2:20260204T213000
X-ALT-DESC;FMTTYPE=TEXT/HTML:
CATEGORIES:Κύπελλο Ελλάδας
URL;VALUE=URI:https://aokalamata1980.gr/mc-events/%cf%80%ce%b1%ce%bd%ce%b5%
 cf%81%cf%85%ce%b8%cf%81%ce%b1%cf%8a%ce%ba%cf%8c%cf%82-%ce%ba%ce%b1%ce%bb%c
 e%b1%ce%bc%ce%ac%cf%84%ce%b1-80-0-3/
METHOD:PUBLISH
END:VEVENT
END:VCALENDAR